BEGIN:VCALENDAR
PRODID:http://www.kufer.de/kuferweb / DE
VERSION:2.0
METHOD:PUBLISH
CALSCALE:GREGORIAN
X-WR-TIMEZONE:Europe/Berlin
BEGIN:VTIMEZONE
TZID:Europe/Berlin
X-LIC-LOCATION:Europe/Berlin
BEGIN:DAYLIGHT
TZOFFSETFROM:+0100
TZOFFSETTO:+0200
TZNAME:CEST
DTSTART;TZID=Europe/Berlin:19700329T020000
RRULE:FREQ=YEARLY;INTERVAL=1;BYDAY=-1SU;BYMONTH=3
END:DAYLIGHT
BEGIN:STANDARD
TZOFFSETFROM:+0200
TZOFFSETTO:+0100
TZNAME:CET
DTSTART;TZID=Europe/Berlin:19701025T030000
RRULE:FREQ=YEARLY;INTERVAL=1;BYDAY=-1SU;BYMONTH=10
END:STANDARD
END:VTIMEZONE
BEGIN:VEVENT
DTSTAMP:20260423T131917
DTSTART;TZID=Europe/Berlin:20260710T093000
DTEND;TZID=Europe/Berlin:20260710T110000
UID:M3.0130-20260710T093000@VHSTANGSTEDT
SUMMARY:Kundalini-Yoga am Vormittag - Sommerkurs (M3.0130) 
LOCATION:Gemeindezentrum Kirche, Hauptstr. 92, 22889 Tangstedt, Saal, Hauptstr. 92, 22889 Tangstedt
END:VEVENT
BEGIN:VEVENT
DTSTAMP:20260423T131917
DTSTART;TZID=Europe/Berlin:20260717T093000
DTEND;TZID=Europe/Berlin:20260717T110000
UID:M3.0130-20260717T093000@VHSTANGSTEDT
SUMMARY:Kundalini-Yoga am Vormittag - Sommerkurs (M3.0130) 
LOCATION:Gemeindezentrum Kirche, Hauptstr. 92, 22889 Tangstedt, Saal, Hauptstr. 92, 22889 Tangstedt
END:VEVENT
BEGIN:VEVENT
DTSTAMP:20260423T131917
DTSTART;TZID=Europe/Berlin:20260724T093000
DTEND;TZID=Europe/Berlin:20260724T110000
UID:M3.0130-20260724T093000@VHSTANGSTEDT
SUMMARY:Kundalini-Yoga am Vormittag - Sommerkurs (M3.0130) 
LOCATION:Gemeindezentrum Kirche, Hauptstr. 92, 22889 Tangstedt, Saal, Hauptstr. 92, 22889 Tangstedt
END:VEVENT
BEGIN:VEVENT
DTSTAMP:20260423T131917
DTSTART;TZID=Europe/Berlin:20260731T093000
DTEND;TZID=Europe/Berlin:20260731T110000
UID:M3.0130-20260731T093000@VHSTANGSTEDT
SUMMARY:Kundalini-Yoga am Vormittag - Sommerkurs (M3.0130) 
LOCATION:Gemeindezentrum Kirche, Hauptstr. 92, 22889 Tangstedt, Saal, Hauptstr. 92, 22889 Tangstedt
END:VEVENT
BEGIN:VEVENT
DTSTAMP:20260423T131917
DTSTART;TZID=Europe/Berlin:20260807T093000
DTEND;TZID=Europe/Berlin:20260807T110000
UID:M3.0130-20260807T093000@VHSTANGSTEDT
SUMMARY:Kundalini-Yoga am Vormittag - Sommerkurs (M3.0130) 
LOCATION:Gemeindezentrum Kirche, Hauptstr. 92, 22889 Tangstedt, Saal, Hauptstr. 92, 22889 Tangstedt
END:VEVENT
BEGIN:VEVENT
DTSTAMP:20260423T131917
DTSTART;TZID=Europe/Berlin:20260814T093000
DTEND;TZID=Europe/Berlin:20260814T110000
UID:M3.0130-20260814T093000@VHSTANGSTEDT
SUMMARY:Kundalini-Yoga am Vormittag - Sommerkurs (M3.0130) 
LOCATION:Gemeindezentrum Kirche, Hauptstr. 92, 22889 Tangstedt, Saal, Hauptstr. 92, 22889 Tangstedt
END:VEVENT
END:VCALENDAR