BEGIN:VCALENDAR
PRODID:http://www.kufer.de/kuferweb / DE
VERSION:2.0
METHOD:PUBLISH
CALSCALE:GREGORIAN
X-WR-TIMEZONE:Europe/Berlin
BEGIN:VTIMEZONE
TZID:Europe/Berlin
X-LIC-LOCATION:Europe/Berlin
BEGIN:DAYLIGHT
TZOFFSETFROM:+0100
TZOFFSETTO:+0200
TZNAME:CEST
DTSTART;TZID=Europe/Berlin:19700329T020000
RRULE:FREQ=YEARLY;INTERVAL=1;BYDAY=-1SU;BYMONTH=3
END:DAYLIGHT
BEGIN:STANDARD
TZOFFSETFROM:+0200
TZOFFSETTO:+0100
TZNAME:CET
DTSTART;TZID=Europe/Berlin:19701025T030000
RRULE:FREQ=YEARLY;INTERVAL=1;BYDAY=-1SU;BYMONTH=10
END:STANDARD
END:VTIMEZONE
BEGIN:VEVENT
DTSTAMP:20260423T132515
DTSTART;TZID=Europe/Berlin:20260821T093000
DTEND;TZID=Europe/Berlin:20260821T110000
UID:M3.0131-20260821T093000@VHSTANGSTEDT
SUMMARY:Kundalini-Yoga am Vormittag (M3.0131) 
LOCATION:Gemeindezentrum Kirche, Hauptstr. 92, 22889 Tangstedt, Saal, Hauptstr. 92, 22889 Tangstedt
END:VEVENT
BEGIN:VEVENT
DTSTAMP:20260423T132515
DTSTART;TZID=Europe/Berlin:20260828T093000
DTEND;TZID=Europe/Berlin:20260828T110000
UID:M3.0131-20260828T093000@VHSTANGSTEDT
SUMMARY:Kundalini-Yoga am Vormittag (M3.0131) 
LOCATION:Gemeindezentrum Kirche, Hauptstr. 92, 22889 Tangstedt, Saal, Hauptstr. 92, 22889 Tangstedt
END:VEVENT
BEGIN:VEVENT
DTSTAMP:20260423T132515
DTSTART;TZID=Europe/Berlin:20260904T093000
DTEND;TZID=Europe/Berlin:20260904T110000
UID:M3.0131-20260904T093000@VHSTANGSTEDT
SUMMARY:Kundalini-Yoga am Vormittag (M3.0131) 
LOCATION:Gemeindezentrum Kirche, Hauptstr. 92, 22889 Tangstedt, Saal, Hauptstr. 92, 22889 Tangstedt
END:VEVENT
BEGIN:VEVENT
DTSTAMP:20260423T132515
DTSTART;TZID=Europe/Berlin:20260911T093000
DTEND;TZID=Europe/Berlin:20260911T110000
UID:M3.0131-20260911T093000@VHSTANGSTEDT
SUMMARY:Kundalini-Yoga am Vormittag (M3.0131) 
LOCATION:Gemeindezentrum Kirche, Hauptstr. 92, 22889 Tangstedt, Saal, Hauptstr. 92, 22889 Tangstedt
END:VEVENT
BEGIN:VEVENT
DTSTAMP:20260423T132515
DTSTART;TZID=Europe/Berlin:20260918T093000
DTEND;TZID=Europe/Berlin:20260918T110000
UID:M3.0131-20260918T093000@VHSTANGSTEDT
SUMMARY:Kundalini-Yoga am Vormittag (M3.0131) 
LOCATION:Gemeindezentrum Kirche, Hauptstr. 92, 22889 Tangstedt, Saal, Hauptstr. 92, 22889 Tangstedt
END:VEVENT
BEGIN:VEVENT
DTSTAMP:20260423T132515
DTSTART;TZID=Europe/Berlin:20260925T093000
DTEND;TZID=Europe/Berlin:20260925T110000
UID:M3.0131-20260925T093000@VHSTANGSTEDT
SUMMARY:Kundalini-Yoga am Vormittag (M3.0131) 
LOCATION:Gemeindezentrum Kirche, Hauptstr. 92, 22889 Tangstedt, Saal, Hauptstr. 92, 22889 Tangstedt
END:VEVENT
BEGIN:VEVENT
DTSTAMP:20260423T132515
DTSTART;TZID=Europe/Berlin:20261002T093000
DTEND;TZID=Europe/Berlin:20261002T110000
UID:M3.0131-20261002T093000@VHSTANGSTEDT
SUMMARY:Kundalini-Yoga am Vormittag (M3.0131) 
LOCATION:Gemeindezentrum Kirche, Hauptstr. 92, 22889 Tangstedt, Saal, Hauptstr. 92, 22889 Tangstedt
END:VEVENT
BEGIN:VEVENT
DTSTAMP:20260423T132515
DTSTART;TZID=Europe/Berlin:20261009T093000
DTEND;TZID=Europe/Berlin:20261009T110000
UID:M3.0131-20261009T093000@VHSTANGSTEDT
SUMMARY:Kundalini-Yoga am Vormittag (M3.0131) 
LOCATION:Gemeindezentrum Kirche, Hauptstr. 92, 22889 Tangstedt, Saal, Hauptstr. 92, 22889 Tangstedt
END:VEVENT
BEGIN:VEVENT
DTSTAMP:20260423T132515
DTSTART;TZID=Europe/Berlin:20261016T093000
DTEND;TZID=Europe/Berlin:20261016T110000
UID:M3.0131-20261016T093000@VHSTANGSTEDT
SUMMARY:Kundalini-Yoga am Vormittag (M3.0131) 
LOCATION:Gemeindezentrum Kirche, Hauptstr. 92, 22889 Tangstedt, Saal, Hauptstr. 92, 22889 Tangstedt
END:VEVENT
BEGIN:VEVENT
DTSTAMP:20260423T132515
DTSTART;TZID=Europe/Berlin:20261023T093000
DTEND;TZID=Europe/Berlin:20261023T110000
UID:M3.0131-20261023T093000@VHSTANGSTEDT
SUMMARY:Kundalini-Yoga am Vormittag (M3.0131) 
LOCATION:Gemeindezentrum Kirche, Hauptstr. 92, 22889 Tangstedt, Saal, Hauptstr. 92, 22889 Tangstedt
END:VEVENT
END:VCALENDAR