BEGIN:VCALENDAR
PRODID:http://www.kufer.de/kuferweb / DE
VERSION:2.0
METHOD:PUBLISH
CALSCALE:GREGORIAN
X-WR-TIMEZONE:Europe/Berlin
BEGIN:VTIMEZONE
TZID:Europe/Berlin
X-LIC-LOCATION:Europe/Berlin
BEGIN:DAYLIGHT
TZOFFSETFROM:+0100
TZOFFSETTO:+0200
TZNAME:CEST
DTSTART;TZID=Europe/Berlin:19700329T020000
RRULE:FREQ=YEARLY;INTERVAL=1;BYDAY=-1SU;BYMONTH=3
END:DAYLIGHT
BEGIN:STANDARD
TZOFFSETFROM:+0200
TZOFFSETTO:+0100
TZNAME:CET
DTSTART;TZID=Europe/Berlin:19701025T030000
RRULE:FREQ=YEARLY;INTERVAL=1;BYDAY=-1SU;BYMONTH=10
END:STANDARD
END:VTIMEZONE
BEGIN:VEVENT
DTSTAMP:20260423T131459
DTSTART;TZID=Europe/Berlin:20261030T093000
DTEND;TZID=Europe/Berlin:20261030T110000
UID:M3.0132-20261030T093000@VHSTANGSTEDT
SUMMARY:Kundalini-Yoga am Vormittag (M3.0132) 
LOCATION:Gemeindezentrum Kirche, Hauptstr. 92, 22889 Tangstedt, Saal, Hauptstr. 92, 22889 Tangstedt
END:VEVENT
BEGIN:VEVENT
DTSTAMP:20260423T131459
DTSTART;TZID=Europe/Berlin:20261106T093000
DTEND;TZID=Europe/Berlin:20261106T110000
UID:M3.0132-20261106T093000@VHSTANGSTEDT
SUMMARY:Kundalini-Yoga am Vormittag (M3.0132) 
LOCATION:Gemeindezentrum Kirche, Hauptstr. 92, 22889 Tangstedt, Saal, Hauptstr. 92, 22889 Tangstedt
END:VEVENT
BEGIN:VEVENT
DTSTAMP:20260423T131459
DTSTART;TZID=Europe/Berlin:20261113T093000
DTEND;TZID=Europe/Berlin:20261113T110000
UID:M3.0132-20261113T093000@VHSTANGSTEDT
SUMMARY:Kundalini-Yoga am Vormittag (M3.0132) 
LOCATION:Gemeindezentrum Kirche, Hauptstr. 92, 22889 Tangstedt, Saal, Hauptstr. 92, 22889 Tangstedt
END:VEVENT
BEGIN:VEVENT
DTSTAMP:20260423T131459
DTSTART;TZID=Europe/Berlin:20261120T093000
DTEND;TZID=Europe/Berlin:20261120T110000
UID:M3.0132-20261120T093000@VHSTANGSTEDT
SUMMARY:Kundalini-Yoga am Vormittag (M3.0132) 
LOCATION:Gemeindezentrum Kirche, Hauptstr. 92, 22889 Tangstedt, Saal, Hauptstr. 92, 22889 Tangstedt
END:VEVENT
BEGIN:VEVENT
DTSTAMP:20260423T131459
DTSTART;TZID=Europe/Berlin:20261127T093000
DTEND;TZID=Europe/Berlin:20261127T110000
UID:M3.0132-20261127T093000@VHSTANGSTEDT
SUMMARY:Kundalini-Yoga am Vormittag (M3.0132) 
LOCATION:Gemeindezentrum Kirche, Hauptstr. 92, 22889 Tangstedt, Saal, Hauptstr. 92, 22889 Tangstedt
END:VEVENT
BEGIN:VEVENT
DTSTAMP:20260423T131459
DTSTART;TZID=Europe/Berlin:20261204T093000
DTEND;TZID=Europe/Berlin:20261204T110000
UID:M3.0132-20261204T093000@VHSTANGSTEDT
SUMMARY:Kundalini-Yoga am Vormittag (M3.0132) 
LOCATION:Gemeindezentrum Kirche, Hauptstr. 92, 22889 Tangstedt, Saal, Hauptstr. 92, 22889 Tangstedt
END:VEVENT
BEGIN:VEVENT
DTSTAMP:20260423T131459
DTSTART;TZID=Europe/Berlin:20261211T093000
DTEND;TZID=Europe/Berlin:20261211T110000
UID:M3.0132-20261211T093000@VHSTANGSTEDT
SUMMARY:Kundalini-Yoga am Vormittag (M3.0132) 
LOCATION:Gemeindezentrum Kirche, Hauptstr. 92, 22889 Tangstedt, Saal, Hauptstr. 92, 22889 Tangstedt
END:VEVENT
END:VCALENDAR